BEGIN:VCALENDAR
VERSION:2.0
PRODID:-//WHISKYFANBLOG.DE//NONSGML Events//EN
BEGIN:VEVENT
UID:40265
DTSTAMP:20251225T112454
DTSTART:20261120T000000
DTEND:20261122T000000
LOCATION:Kurhaus Wiesbaden
DESCRIPTION:Wo Genießer auf Genuss treffen – Die InterWhisky ist seit über 26 Jahren das Event...
SUMMARY:InterWhisky im Kurhaus Wiesbaden!
ATTACH;FMTTYPE=image/jpeg:
URL;VALUE=URI:https://www.whiskyfanblog.de/event/interwhisky-im-kurhaus-wiesbaden/
END:VEVENT
BEGIN:VEVENT
UID:40221
DTSTAMP:20251213T120644
DTSTART:20261113T000000
DTEND:20261114T000000
LOCATION:Da Capo Eventhalle
DESCRIPTION:In der Da Capo Eventhalle der Michaelis Hotel GmbH an zwei Tagen Degustationen unter fachlicher...
SUMMARY:Whisky Weekend Leipzig
ATTACH;FMTTYPE=image/jpeg:
URL;VALUE=URI:https://www.whiskyfanblog.de/event/whisky-weekend-leipzig/
END:VEVENT
BEGIN:VEVENT
UID:40262
DTSTAMP:20251225T112356
DTSTART:20261106T000000
DTEND:20261108T000000
LOCATION:Neue Tonhalle
DESCRIPTION:Circa 30 Aussteller, die bis zu 1.000 Whiskys zur Verkostung und zum Kauf anbieten. Des...
SUMMARY:Rieggers Whisky- und Rummesse Villingen
ATTACH;FMTTYPE=image/jpeg:
URL;VALUE=URI:https://www.whiskyfanblog.de/event/whiskymesse-villingen/
END:VEVENT
BEGIN:VEVENT
UID:40263
DTSTAMP:20260216T203522
DTSTART:20261106T000000
DTEND:20261107T000000
LOCATION:Stadthalle
DESCRIPTION:Am Freitag, 06.11. und Samstag 07.11. findet das Heimspiel wieder in der Stadthalle Aschaffenburg statt....
SUMMARY:Whisk(e)y Pur Festival in Aschaffenburg
ATTACH;FMTTYPE=image/jpeg:
URL;VALUE=URI:https://www.whiskyfanblog.de/event/whiskey-pur-festival-in-aschaffenburg/
END:VEVENT
BEGIN:VEVENT
UID:40300
DTSTAMP:20251225T111827
DTSTART:20261030T000000
DTEND:20261031T000000
LOCATION:
DESCRIPTION:Unsere Messe findet im Kongress am Park in Augsburg statt. Die Foyers sind mit einer...
SUMMARY:Whisk(e)ysalon &amp; Spirits Augsburg
ATTACH;FMTTYPE=image/jpeg:
URL;VALUE=URI:https://www.whiskyfanblog.de/event/whiskeysalon-spirits-2023-augsburg/
END:VEVENT
BEGIN:VEVENT
UID:40261
DTSTAMP:20251225T112040
DTSTART:20261024T000000
DTEND:20261025T000000
LOCATION:Stadthalle Hofheim
DESCRIPTION:In der Stadthalle Hofheim. Wissenswertes über Kunst, Kultur, Musik, Speisen und Getränke, Geschichte, Geografie aber...
SUMMARY:Whisky &amp; Tobacco Days in Hofheim
ATTACH;FMTTYPE=image/jpeg:
URL;VALUE=URI:https://www.whiskyfanblog.de/event/whisky-tobacco-days-in-hofheim/
END:VEVENT
BEGIN:VEVENT
UID:40260
DTSTAMP:20251225T111959
DTSTART:20261024T000000
DTEND:20261025T000000
LOCATION:Stadthalle Mülheim
DESCRIPTION:Die größte Messe des Ruhrgebiets in der Stadthalle Mülheim.
SUMMARY:AQUAVITAE Spirituosen-Messe in Mülheim
ATTACH;FMTTYPE=image/jpeg:
URL;VALUE=URI:https://www.whiskyfanblog.de/event/aquavitae-spirituosen-messe-in-muelheim/
END:VEVENT
BEGIN:VEVENT
UID:40258
DTSTAMP:20251225T111919
DTSTART:20261016T000000
DTEND:20261017T000000
LOCATION:Barockschloss Mannheim
DESCRIPTION:Die Messe für Whisky findet im wunderschönen Barockschloss Mannheim statt. Dieses prächtige Schloss bietet die...
SUMMARY:World of Whisky Mannheim
ATTACH;FMTTYPE=image/jpeg:
URL;VALUE=URI:https://www.whiskyfanblog.de/event/world-of-whisky-mannheim/
END:VEVENT
BEGIN:VEVENT
UID:42041
DTSTAMP:20251213T120458
DTSTART:20261010T000000
DTEND:20261011T000000
LOCATION:CCH – Congress Center Hamburg
DESCRIPTION:Hamburg baut seinen Ruf als Whisky-Live-Stadt neben Metropolen wie Paris, London und Tokio aus und...
SUMMARY:Whisky Live Germany
ATTACH;FMTTYPE=image/jpeg:
URL;VALUE=URI:https://www.whiskyfanblog.de/event/whisky-live-germany/
END:VEVENT
BEGIN:VEVENT
UID:45974
DTSTAMP:20260320T151908
DTSTART:20261002T000000
DTEND:20261003T000000
LOCATION:Das Forum Hameln
DESCRIPTION:Der Whiskyclub Hameln e.V. (gegründet 2022) veranstaltet in diesem Jahr seine erste eigene Messe. Das...
SUMMARY:Weser Whisky Festival (Hameln)
ATTACH;FMTTYPE=image/jpeg:
URL;VALUE=URI:https://www.whiskyfanblog.de/event/weser-whisky-festival-hameln/
END:VEVENT
BEGIN:VEVENT
UID:40257
DTSTAMP:20251225T111345
DTSTART:20261002T000000
DTEND:20261003T000000
LOCATION:Heimathafen, Lörrach (Indoor)
DESCRIPTION:2026 findet die Whiskymesse wieder statt – voraussichtlich am 02. &amp; 03.10.2026!  Wir haben bereits...
SUMMARY:Cask Passion in Weil am Rhein
ATTACH;FMTTYPE=image/jpeg:
URL;VALUE=URI:https://www.whiskyfanblog.de/event/cask-passion-in-weil-am-rhein/
END:VEVENT
BEGIN:VEVENT
UID:40255
DTSTAMP:20251225T111529
DTSTART:20260918T000000
DTEND:20260920T000000
LOCATION:Schlosspark Trebsen
DESCRIPTION:Der Kulturverein Schloß Machern präsentiert die Internationalen Highland-Games im Schloß und Park zu Trebsen.
SUMMARY:Internationale Highland Games Trebsen
ATTACH;FMTTYPE=image/jpeg:
URL;VALUE=URI:https://www.whiskyfanblog.de/event/internationale-highland-games-trebsen/
END:VEVENT
BEGIN:VEVENT
UID:40253
DTSTAMP:20251225T111136
DTSTART:20260918T000000
DTEND:20260919T000000
LOCATION:Bürgerhaus
DESCRIPTION:Whisky Palatina spricht Liebhaber dieser edlen Spirituose sowie Interessierte an und füllt die diesbezügliche Lücke...
SUMMARY:Whisky Palatina – Pfälzer Whiskymesse
ATTACH;FMTTYPE=image/jpeg:
URL;VALUE=URI:https://www.whiskyfanblog.de/event/whisky-palatina-pfaelzer-whiskymesse/
END:VEVENT
BEGIN:VEVENT
UID:40254
DTSTAMP:20251225T112818
DTSTART:20260918T000000
DTEND:20260919T000000
LOCATION:Bürgerhaus Wilhelmsburg
DESCRIPTION:Die faszinierende Welt des Whiskys ist zu Gast auf der Hamburger Elbinsel zwischen Norder- und...
SUMMARY:Just Whisky Hamburg
ATTACH;FMTTYPE=image/jpeg:
URL;VALUE=URI:https://www.whiskyfanblog.de/event/just-whisky-hamburg/
END:VEVENT
BEGIN:VEVENT
UID:40252
DTSTAMP:20251225T111430
DTSTART:20260911T000000
DTEND:20260912T000000
LOCATION:Orangerie Schloss Charlottenburg
DESCRIPTION:Das Original in der Orangerie des Schloss Charlottenburg.
SUMMARY:WHISKYHERBST® in Berlin
ATTACH;FMTTYPE=image/jpeg:
URL;VALUE=URI:https://www.whiskyfanblog.de/event/whiskyherbst-in-berlin/
END:VEVENT
BEGIN:VEVENT
UID:40250
DTSTAMP:20251225T111031
DTSTART:20260904T000000
DTEND:20260905T000000
LOCATION:Freiheit 15 in Köpenick
DESCRIPTION:Wie schon in den vergangenen Jahren findet auch in diesem Jahr das Köpenicker Whiskyfest 2025...
SUMMARY:Köpenicker Whiskyfest in Berlin
ATTACH;FMTTYPE=image/jpeg:
URL;VALUE=URI:https://www.whiskyfanblog.de/event/koepenicker-whiskyfest-in-berlin/
END:VEVENT
BEGIN:VEVENT
UID:40246
DTSTAMP:20251225T110719
DTSTART:20260829T000000
DTEND:20260829T000000
LOCATION:Fesslermill1396
DESCRIPTION:An diesem Tag dreht sich alles um regionalen Whisky, Gin und Kulinarik im Hof der...
SUMMARY:Fesslermill1396 Glencoe Swabian Whiskyday
ATTACH;FMTTYPE=image/jpeg:
URL;VALUE=URI:https://www.whiskyfanblog.de/event/fesslermill1396-glencoe-swabian-whiskyday/
END:VEVENT
BEGIN:VEVENT
UID:40247
DTSTAMP:20251225T110450
DTSTART:20260710T000000
DTEND:20260712T000000
LOCATION:Schlosspark Eichtersheim
DESCRIPTION:Veranstaltungsort für die Internationalen Highland-Games ist der Schlosspark Eichtersheim. Zu den Höhepunkten zählen Wettbewerbe im...
SUMMARY:Highland Games Angelbachtal
ATTACH;FMTTYPE=image/jpeg:
URL;VALUE=URI:https://www.whiskyfanblog.de/event/highland-games-angelbachtal/
END:VEVENT
BEGIN:VEVENT
UID:42485
DTSTAMP:20251213T122014
DTSTART:20260710T000000
DTEND:20260711T000000
LOCATION:Johanniskloster Stralsund
DESCRIPTION:Whisky, Gin, Rum und weitere DestillateMarktstände mit handwerklichen Erzeugnissen aus der UmgebungKöstliche SpeisenIrische Folksmusik
SUMMARY:Whiskyboat Stralsund
ATTACH;FMTTYPE=image/jpeg:
URL;VALUE=URI:https://www.whiskyfanblog.de/event/whiskyboat-am-schiffshebewerk-niederfinow/
END:VEVENT
BEGIN:VEVENT
UID:40235
DTSTAMP:20251213T122159
DTSTART:20260529T000000
DTEND:20260530T000000
LOCATION:Cavallo
DESCRIPTION:Die Open Whisky findet im Cavallo direkt neben dem Laden statt und bei gutem Wetter...
SUMMARY:OPEN WHISKY in Hannover
ATTACH;FMTTYPE=image/jpeg:
URL;VALUE=URI:https://www.whiskyfanblog.de/event/open-whisky-in-hannover/
END:VEVENT
BEGIN:VEVENT
UID:40243
DTSTAMP:20251225T110411
DTSTART:20260529T000000
DTEND:20260530T000000
LOCATION:Mensa der BBS I Technik
DESCRIPTION:Die zweite Whisky-Messe in Kaiserslautern in der renovierten „Mensa“ der BBS I Technik auf dem...
SUMMARY:Lautrer Whisky Days
ATTACH;FMTTYPE=image/jpeg:
URL;VALUE=URI:https://www.whiskyfanblog.de/event/lautrer-whisky-days-2024-neu/
END:VEVENT
BEGIN:VEVENT
UID:40239
DTSTAMP:20250510T112408
DTSTART:20260510T000000
DTEND:20260510T000000
LOCATION:Stadthalle
DESCRIPTION:In der zentral gelegenen Stadthalle geben Single-Malt-Whisky, Craft Beer, Schokolade, Wein und weitere Delikatessen einen Einblick...
SUMMARY:Kronberger Genuss-Messe
ATTACH;FMTTYPE=image/jpeg:
URL;VALUE=URI:https://www.whiskyfanblog.de/event/kronberger-genuss-messe/
END:VEVENT
BEGIN:VEVENT
UID:40328
DTSTAMP:20250525T125339
DTSTART:20260509T110000
DTEND:20260509T190000
LOCATION:ABZ Stuttgart (Untertürkheim)
DESCRIPTION:Dich erwarten über 20 namhafte Produzenten aus der Armagnac-Region, die ihre Produkte persönlich vorstellen und...
SUMMARY:4. German Armagnac Festival in Stuttgart
ATTACH;FMTTYPE=image/jpeg:
URL;VALUE=URI:https://www.whiskyfanblog.de/event/3-german-armagnac-festival-in-stuttgart/
END:VEVENT
BEGIN:VEVENT
UID:40241
DTSTAMP:20251213T121743
DTSTART:20260508T000000
DTEND:20260509T000000
LOCATION:Schloss Grochwitz
DESCRIPTION:Die Kaxdorfer Whiskyfreunde veranstalten eine Whiskymesse im Schloss Grochwitz in 04916 Herzberg Elster. Freunde des...
SUMMARY:Whisky-Messe Schloss Grochwitz in Herzberg
ATTACH;FMTTYPE=image/jpeg:
URL;VALUE=URI:https://www.whiskyfanblog.de/event/whisky-messe-schloss-grochwitz-in-herzberg/
END:VEVENT
BEGIN:VEVENT
UID:40236
DTSTAMP:20251213T121339
DTSTART:20260425T000000
DTEND:20260426T000000
LOCATION:Josef-Kohlmeier-Halle
DESCRIPTION:Jedes Jahr findet in der Limburger Josef-Kohlmeier-Halle eine der attraktivsten, weil unkommerziellsten Whiskymessen statt. Günstig...
SUMMARY:Whisky Fair in Limburg
ATTACH;FMTTYPE=image/jpeg:
URL;VALUE=URI:https://www.whiskyfanblog.de/event/whisky-fair-in-limburg/
END:VEVENT
BEGIN:VEVENT
UID:40238
DTSTAMP:20251213T121826
DTSTART:20260424T000000
DTEND:20260425T000000
LOCATION:Hofgut Farny, Kißlegg im Allgäu
DESCRIPTION:Am 24. und 25. April 2026 wird Kißlegg im Allgäu zum Mittelpunkt der deutschen Whiskyszene:...
SUMMARY:Festival des deutschen Whiskys
ATTACH;FMTTYPE=image/jpeg:
URL;VALUE=URI:https://www.whiskyfanblog.de/event/3-festival-des-deutschen-whiskys/
END:VEVENT
BEGIN:VEVENT
UID:40242
DTSTAMP:20251213T122111
DTSTART:20260424T000000
DTEND:20260425T000000
LOCATION:Grosse Reithalle Winterthur
DESCRIPTION:Das neue Whiskyfestival für Whisky Liebhaber und solche, die es werden wollen. Degustation von Whisky...
SUMMARY:Whisky Mäss Winterthur (CH)
ATTACH;FMTTYPE=image/jpeg:
URL;VALUE=URI:https://www.whiskyfanblog.de/event/whisky-maess-winterthur-ch/
END:VEVENT
BEGIN:VEVENT
UID:40234
DTSTAMP:20251213T121250
DTSTART:20260417T000000
DTEND:20260418T000000
LOCATION:Konferenzloft Kempen
DESCRIPTION:Der Konferenzloft ist eine zur Eventlocation umgebaute ehemaligen Strumpffabrik. Auf über 1000 qm präsentieren verschiedene...
SUMMARY:5. Kempener Whisk(e)y‑Konferenz
ATTACH;FMTTYPE=image/jpeg:
URL;VALUE=URI:https://www.whiskyfanblog.de/event/4-kempener-whiskey-konferenz/
END:VEVENT
BEGIN:VEVENT
UID:40685
DTSTAMP:20251225T173238
DTSTART:20260417T000000
DTEND:20260418T000000
LOCATION:Badisch Brauhaus
DESCRIPTION:Am 17. und 18. April 2026 verwandelt sich das Badisch Brauhaus in Karlsruhe wieder zum...
SUMMARY:Karlsruher Whiskeymesse
ATTACH;FMTTYPE=image/jpeg:
URL;VALUE=URI:https://www.whiskyfanblog.de/event/erste-karlsruher-whiskey-messe/
END:VEVENT
BEGIN:VEVENT
UID:40233
DTSTAMP:20251213T121156
DTSTART:20260411T000000
DTEND:20260412T000000
LOCATION:Classic Remise Düsseldorf
DESCRIPTION:Messe des Veranstalters der Aquavitae in der Classic Remise Düsseldorf.
SUMMARY:Whisky Fair Rhein-Ruhr Düsseldorf
ATTACH;FMTTYPE=image/jpeg:
URL;VALUE=URI:https://www.whiskyfanblog.de/event/whisky-fair-rhein-ruhr-duesseldorf/
END:VEVENT
BEGIN:VEVENT
UID:40229
DTSTAMP:20250510T111738
DTSTART:20260328T000000
DTEND:20260329T000000
LOCATION:Hotel Goldener Anker
DESCRIPTION:Im Hotel „Goldener Anker“ in Radebeul. Den Besucher erwarten viele Aussteller, interessante Vorträge, Live-Musik und...
SUMMARY:Whisky Festival in Radebeul
ATTACH;FMTTYPE=image/jpeg:
URL;VALUE=URI:https://www.whiskyfanblog.de/event/whisky-festival-in-radebeul/
END:VEVENT
BEGIN:VEVENT
UID:40222
DTSTAMP:20250510T111649
DTSTART:20260326T000000
DTEND:20260328T000000
LOCATION:Schiffsteg 1 Luzern
DESCRIPTION:Die größte Whiskymesse der Zentralschweiz.
SUMMARY:Whiskyschiff Luzern (CH)
ATTACH;FMTTYPE=image/jpeg:
URL;VALUE=URI:https://www.whiskyfanblog.de/event/whiskyschiff-luzern-ch/
END:VEVENT
BEGIN:VEVENT
UID:40227
DTSTAMP:20260216T203709
DTSTART:20260320T000000
DTEND:20260321T000000
LOCATION:Ausstellungshalle Frankfurt
DESCRIPTION:Als einzige reine Whiskymesse in Frankfurt präsentiert Whisky Spirits mit befreundeten Whisky-Kollegen ein Forum für...
SUMMARY:Whisky Time Frankfurt
ATTACH;FMTTYPE=image/jpeg:
URL;VALUE=URI:https://www.whiskyfanblog.de/event/whisky-time-frankfurt/
END:VEVENT
BEGIN:VEVENT
UID:40228
DTSTAMP:20251213T121027
DTSTART:20260313T000000
DTEND:20260314T000000
LOCATION:LWL Museum Hattingen
DESCRIPTION:Wir laden Sie herzlich ein, an der führenden Spirituosenmesse des Ruhrgebiets teilzunehmen. Tauchen Sie ein...
SUMMARY:Whisky’n’more in Hattingen
ATTACH;FMTTYPE=image/jpeg:
URL;VALUE=URI:https://www.whiskyfanblog.de/event/whiskynmore-in-bochum/
END:VEVENT
BEGIN:VEVENT
UID:40223
DTSTAMP:20251225T110000
DTSTART:20260304T000000
DTEND:20260308T000000
LOCATION:Messe München
DESCRIPTION:Integriert in den beliebten Treffpunkt für Genießer der FOOD &amp; LIFE auf dem Münchner Messegelände...
SUMMARY:Munich Whisk(e)y Market
ATTACH;FMTTYPE=image/jpeg:
URL;VALUE=URI:https://www.whiskyfanblog.de/event/munich-whiskey-market/
END:VEVENT
BEGIN:VEVENT
UID:40224
DTSTAMP:20251213T120840
DTSTART:20260306T000000
DTEND:20260308T000000
LOCATION:Kaisersaal
DESCRIPTION:In der einzigartigen Atmosphäre des Kaisersaales in historischem Ambiente werden Sie an drei Messetagen in...
SUMMARY:Tarona Whisky Messe Erfurt
ATTACH;FMTTYPE=image/jpeg:
URL;VALUE=URI:https://www.whiskyfanblog.de/event/tarona-whisky-messe-erfurt/
END:VEVENT
BEGIN:VEVENT
UID:40267
DTSTAMP:20251225T173205
DTSTART:20260220T000000
DTEND:20260222T000000
LOCATION:Schloss Schwetzingen
DESCRIPTION:Das Schwetzinger Schloss wird zum Whisky-Mekka im Rhein-Neckar-Dreieck im tollen Ambiente des Barockschlosses in den...
SUMMARY:Whisky Spring Schwetzingen
ATTACH;FMTTYPE=image/jpeg:
URL;VALUE=URI:https://www.whiskyfanblog.de/event/whisky-spring-schwetzingen/
END:VEVENT
BEGIN:VEVENT
UID:40182
DTSTAMP:20260110T164032
DTSTART:20260213T000000
DTEND:20260214T000000
LOCATION:Messe Hamburg
DESCRIPTION:Die Whisky- und Spirituosenmesse in der Messehalle B4, gegenüber vom CCH.
SUMMARY:HANSE SPIRIT Hamburg
ATTACH;FMTTYPE=image/jpeg:
URL;VALUE=URI:https://www.whiskyfanblog.de/event/hanse-spirit-hamburg/
END:VEVENT
BEGIN:VEVENT
UID:40226
DTSTAMP:20260110T164432
DTSTART:20260206T000000
DTEND:20260208T000000
LOCATION:Messe Nürnberg
DESCRIPTION:Die Whisk(e)y-Messe Nürnberg THE VILLAGE 2026 ist die tonangebende Messe Europas: Am 7. und 8....
SUMMARY:THE VILLAGE Whisk(e)ymesse Nürnberg
ATTACH;FMTTYPE=image/jpeg:
URL;VALUE=URI:https://www.whiskyfanblog.de/event/the-village-whiskeymesse-nuernberg/
END:VEVENT
BEGIN:VEVENT
UID:40199
DTSTAMP:20250510T110935
DTSTART:20260206T000000
DTEND:20260207T000000
LOCATION:Festung Rüsselsheim
DESCRIPTION:Eine der schönsten Locations im Gewölbekeller der historischen Rüsselsheimer Festungsanlage, seit 2019 Freitags und Samstags...
SUMMARY:Whiskymesse Rüsselsheim
ATTACH;FMTTYPE=image/jpeg:
URL;VALUE=URI:https://www.whiskyfanblog.de/event/whiskymesse-ruesselsheim/
END:VEVENT
BEGIN:VEVENT
UID:40197
DTSTAMP:20250510T111517
DTSTART:20260130T000000
DTEND:20260131T000000
LOCATION:Phönixhalle Römerkastell
DESCRIPTION:Die 0711 Spirits ist die Endverbrauchermesse für Genießer feiner Spirituosen in Stuttgart. Über 80 Aussteller mit Whisky,...
SUMMARY:0711 Spirits Stuttgart
ATTACH;FMTTYPE=image/jpeg:
URL;VALUE=URI:https://www.whiskyfanblog.de/event/0711-spirits-stuttgart/
END:VEVENT
BEGIN:VEVENT
UID:40120
DTSTAMP:20251213T120743
DTSTART:20260116T000000
DTEND:20260118T000000
LOCATION:Schloss Trebsen
DESCRIPTION:Über 800 internationale Whisky-Spezialitäten, Masterclasstastings, Whiskyseminare, Tabakgenüsse, herrschaftliche Gaumenfreuden im Schlossrestaurant und manch andere Annehmlichkeit...
SUMMARY:Whisky-Messe Schloss Trebsen
ATTACH;FMTTYPE=image/jpeg:
URL;VALUE=URI:https://www.whiskyfanblog.de/event/whisky-messe-schloss-trebsen-2/
END:VEVENT
BEGIN:VEVENT
UID:40259
DTSTAMP:20251225T112144
DTSTART:20251212T000000
DTEND:20251213T000000
LOCATION:Messe Bremen
DESCRIPTION:In der Halle 6 der Messe Bremen ist Platz für rund 130 Destillerien, unabhängige Abfüller...
SUMMARY:Bottle Market Bremen
ATTACH;FMTTYPE=image/jpeg:
URL;VALUE=URI:https://www.whiskyfanblog.de/event/bottle-market-bremen/
END:VEVENT
BEGIN:VEVENT
UID:40264
DTSTAMP:20241228T173127
DTSTART:20251128T000000
DTEND:20251129T000000
LOCATION:Trafo Baden
DESCRIPTION:Die älteste Whiskymesse der Schweiz im Trafo Baden.
SUMMARY:The Swiss Whisky Festival in Zürich (CH)
ATTACH;FMTTYPE=image/jpeg:
URL;VALUE=URI:https://www.whiskyfanblog.de/event/the-swiss-whisky-festival-in-zuerich-ch/
END:VEVENT
BEGIN:VEVENT
UID:40198
DTSTAMP:20241018T210247
DTSTART:20251121T000000
DTEND:20251123T000000
LOCATION:Wappenhalle
DESCRIPTION:Drei Tage Zeit zum Flanieren durch die faszinierende Welt der Edelspirituosen und vor allem: zum...
SUMMARY:MÜNCHEN Whisky &amp; Spirits
ATTACH;FMTTYPE=image/jpeg:
URL;VALUE=URI:https://www.whiskyfanblog.de/event/muenchen-spirits-das-brandneue-spirituosen-festival/
END:VEVENT
BEGIN:VEVENT
UID:45415
DTSTAMP:20251126T125241
DTSTART:20251121T150000
DTEND:20251122T210000
LOCATION:SKV Nauheim e.V.
DESCRIPTION:Am 21. und 22. November 2025 dürfen sich die Besucher auf eine umfangreiche Auswahl durch renommierte...
SUMMARY:1. Nauheimer Whiskymesse "WHISKY EXPERIENCE"
ATTACH;FMTTYPE=image/jpeg:
URL;VALUE=URI:https://www.whiskyfanblog.de/event/1-nauheimer-whiskymesse-whisky-experience/
END:VEVENT
BEGIN:VEVENT
UID:40256
DTSTAMP:20251225T173311
DTSTART:20250920T000000
DTEND:20250921T000000
LOCATION:Kurhaus Bad Homburg
DESCRIPTION:Zweitveranstaltung der bekannten The Whisky Fair aus Limburg im Kurhaus Bad Homburg.
SUMMARY:The Whisky Fair Bad Homburg
ATTACH;FMTTYPE=image/jpeg:
URL;VALUE=URI:https://www.whiskyfanblog.de/event/the-whisky-fair-bad-homburg/
END:VEVENT
BEGIN:VEVENT
UID:40240
DTSTAMP:20250510T112615
DTSTART:20250502T000000
DTEND:20250503T000000
LOCATION:Hamburg Commercial Bank
DESCRIPTION:Im Gebäude der Hamburg Commercial Bank, Martensdamm 6.
SUMMARY:Kieler Whiskymesse
ATTACH;FMTTYPE=image/jpeg:
URL;VALUE=URI:https://www.whiskyfanblog.de/event/kieler-whiskymesse-neue-location/
END:VEVENT
BEGIN:VEVENT
UID:40231
DTSTAMP:20240715T181513
DTSTART:20240405T000000
DTEND:20240407T000000
LOCATION:Stuttgarter Messehallen
DESCRIPTION:Eine bisher einzigartige Bühne für traditionell arbeitende Whiskybrennereien des europäischen Festlandes als Teil der 21.000...
SUMMARY:Continental Whisky Market
ATTACH;FMTTYPE=image/jpeg:
URL;VALUE=URI:https://www.whiskyfanblog.de/event/continental-whisky-market/
END:VEVENT
END:VCALENDAR